BEGIN:VCALENDAR
VERSION:2.0
PRODID:-//wp-events-plugin.com//7.2.3.1//EN
TZID:Europe/Paris
X-WR-TIMEZONE:Europe/Paris
BEGIN:VEVENT
UID:2033@cafeculturelcitoyen.org
DTSTART;TZID=Europe/Paris:20230216T190000
DTEND;TZID=Europe/Paris:20230216T220000
DTSTAMP:20230213T141812Z
URL:https://cafeculturelcitoyen.org/evenements/kles-jeudis-du-3c-ecofascis
 mes-avec-antoine-dubiau-sociologue/
SUMMARY:Les jeudis du 3C - rencontre avec le mensuel CQFD\, critique social
 e et journalisme indépendant
DESCRIPTION:Le journal CQFD existe depuis 20 ans cette année. Critique et 
 expérimentation sociale sont son programme depuis tut ce temps-là\, insp
 irant non seulement les militant-es mais prouvant encore qu'il est possibl
 e de ne pas faire là où on nous dit de faire\, de réaliser un travail j
 ournalistique de qualité\, déterminé\, original et drôle de surcroît 
 sans dépendre de qui que ce soit. Ça n'étonnera personne que ce bel exe
 mple d'insolence et de qualité surgisse de Marseille\, ville rebelle !
ATTACH;FMTTYPE=image/jpeg:https://cafeculturelcitoyen.org/wp-content/uploa
 ds/2023/01/Capture-decran-2023-02-13-150502.png
END:VEVENT
BEGIN:VTIMEZONE
TZID:Europe/Paris
X-LIC-LOCATION:Europe/Paris
BEGIN:STANDARD
DTSTART:20221030T020000
TZOFFSETFROM:+0200
TZOFFSETTO:+0100
TZNAME:CET
END:STANDARD
END:VTIMEZONE
END:VCALENDAR