BEGIN:VCALENDAR
VERSION:2.0
PRODID:-//wp-events-plugin.com//7.2.3.1//EN
TZID:Europe/Paris
X-WR-TIMEZONE:Europe/Paris
BEGIN:VEVENT
UID:1770@cafeculturelcitoyen.org
DTSTART;TZID=Europe/Paris:20230705T200000
DTEND;TZID=Europe/Paris:20230705T220000
DTSTAMP:20230703T081336Z
URL:https://cafeculturelcitoyen.org/evenements/karaoke-2/
SUMMARY:Soirée Karaoké
DESCRIPTION:Tu veux t’entrainer pour la nouvelle star ? Chanter les plus 
 grands tubes à l'unisson ? Ou déclarer ta flamme en chanson? On a un vid
 éo proj\, des micros et une sono de dingue. Nos bénévoles organisent LA
  soirée karaoké sur Aix !!
ATTACH;FMTTYPE=image/jpeg:https://cafeculturelcitoyen.org/wp-content/uploa
 ds/2021/11/illustration-soiree-karaoke-et-dansante_1-1553602866.jpg
END:VEVENT
BEGIN:VTIMEZONE
TZID:Europe/Paris
X-LIC-LOCATION:Europe/Paris
BEGIN:DAYLIGHT
DTSTART:20230326T030000
TZOFFSETFROM:+0100
TZOFFSETTO:+0200
TZNAME:CEST
END:DAYLIGHT
END:VTIMEZONE
END:VCALENDAR