BEGIN:VCALENDAR
VERSION:2.0
PRODID:-//wp-events-plugin.com//7.2.3.1//EN
TZID:Europe/Paris
X-WR-TIMEZONE:Europe/Paris
BEGIN:VEVENT
UID:2618@cafeculturelcitoyen.org
DTSTART;TZID=Europe/Paris:20240120T200000
DTEND;TZID=Europe/Paris:20240120T220000
DTSTAMP:20231208T162841Z
URL:https://cafeculturelcitoyen.org/evenements/justine-the-jellyfish-en-co
 ncert/
SUMMARY:Justine & the Jellyfish en concert !
DESCRIPTION:Justine &amp\; the Jellyfish est un groupe de rock progressif m
 élodique\, mêlant poésie et énergie.\n\nInfluencé par le folk-rock de
 s années 70\, la pop\, le punk et la musique du monde\, Justine &amp\; th
 e Jellyfish est né en 2022 à Correns (Var) avec Béné au chant\, Antony
  à la guitare (Odd-dog\, Zebres\, Chimpanzen\, UnRecorded)\, Matthieu à 
 la basse (Chimpanzen\, UnRecorded)\, Olivier aux claviers (Make some noise
 ) et Doume à la batterie.
ATTACH;FMTTYPE=image/jpeg:https://cafeculturelcitoyen.org/wp-content/uploa
 ds/2023/12/justine-and-the-jellyfish-scaled.jpg
END:VEVENT
BEGIN:VTIMEZONE
TZID:Europe/Paris
X-LIC-LOCATION:Europe/Paris
BEGIN:STANDARD
DTSTART:20231029T020000
TZOFFSETFROM:+0200
TZOFFSETTO:+0100
TZNAME:CET
END:STANDARD
END:VTIMEZONE
END:VCALENDAR