BEGIN:VCALENDAR
VERSION:2.0
PRODID:-//wp-events-plugin.com//7.2.3.1//EN
TZID:Europe/Paris
X-WR-TIMEZONE:Europe/Paris
BEGIN:VEVENT
UID:2119@cafeculturelcitoyen.org
DTSTART;TZID=Europe/Paris:20230308T190000
DTEND;TZID=Europe/Paris:20230308T210000
DTSTAMP:20230225T152808Z
URL:https://cafeculturelcitoyen.org/evenements/journee-mondiale-des-droits
 -des-femmes-women-on-fire-par-attac-pays-daix-et-la-ldh-aix/
SUMMARY:Journée mondiale des droits des femmes - Women on Fire\, par Attac
  pays d'Aix et la LDH Aix
DESCRIPTION:Attac pays d'Aix et la LDH Aix vous invitent toutes et tous à 
 une soirée féministe : Women on fire au 3C !\n\nAprès l'action de rue p
 our les droits des femmes des 3 et 4 mars\, Attac pays d'Aix et la LDH Aix
  vous donnent rendez-vous au 3C pour vous informer\, échanger et débattr
 e sur les luttes féministes avec un focus sur celle contre la réforme de
 s retraites.\n\n- Gilda Derouet* nous présentera une brève histoire du f
 éminisme et de ses revendications.\n\n- Attac pays d'Aix et la LDH Aix pr
 éciseront en quoi la réforme des retraites est totalement injuste pour l
 es femmes.\n\nL’angle féministe est le talon d’Achille qui peut faire
  tomber la réforme. Complémentaires et joyeux\, les cortèges “Rosies
 ” sont un véritable levier et appui dont le mouvement social sait se sa
 isir pour animer et fédérer.\n\nLe combat des femmes concerne tout le mo
 nde\, c'est une lutte large pour l'égalité et contre toutes formes de di
 scrimination et de domination ( comme nous le montre\, par exemple\, le co
 mbat des iraniennes).\n\nEt si le girl power pouvait faire tomber la réfo
 rme mais aussi le patriarcat ...\n\n* L'intervention de Gilda du 10 novemb
 re dernier au 3C a rencontré un vif succès\, c'est pourquoi nous inviton
 s toutes celles et ceux qui l'ont ratée à une séance de rattrapage.
ATTACH;FMTTYPE=image/jpeg:https://cafeculturelcitoyen.org/wp-content/uploa
 ds/2023/02/Capture-decran-2023-02-25-162658.jpg
END:VEVENT
BEGIN:VTIMEZONE
TZID:Europe/Paris
X-LIC-LOCATION:Europe/Paris
BEGIN:STANDARD
DTSTART:20221030T020000
TZOFFSETFROM:+0200
TZOFFSETTO:+0100
TZNAME:CET
END:STANDARD
END:VTIMEZONE
END:VCALENDAR