BEGIN:VCALENDAR
VERSION:2.0
PRODID:-//wp-events-plugin.com//7.2.3.1//EN
TZID:Europe/Paris
X-WR-TIMEZONE:Europe/Paris
BEGIN:VEVENT
UID:1758@cafeculturelcitoyen.org
DTSTART;TZID=Europe/Paris:20220605T103000
DTEND;TZID=Europe/Paris:20220605T234500
DTSTAMP:20220603T135015Z
URL:https://cafeculturelcitoyen.org/evenements/journee-de-formation-des-be
 nevoles-6/
SUMMARY:Journée de formation des bénévoles
DESCRIPTION:Comme chaque mois\, le 3C accueille avec joie les nouvelles et 
 nouveaux bénévoles souhaitant s'investir dans la vie du café !\n\nAu pr
 ogramme :\n\nDe 10h30 à 12h30 : Formation des nouveaux membres\nPrésenta
 tion de l'association\, de son fonctionnement\, des diverses tâches liée
 s à la gestion du 3C\n\n12h30 : Repas partagé ! L'occasion de se rencont
 rer et discuter autour d'un bon repas. Chacun-e peut amener quelque chose 
 de salé ou sucré à grignoter :)\n\n15h00 : Réunion ouverte\, pour repe
 nser le 3C collectivement ! Nous proposons cette réunion ouverte à la su
 ite de la journée de formation pour que les nouveaux membres découvrent 
 le fonctionnement participatif du 3C.\n\nSi vous souhaitez devenir bénév
 ole\, vous pouvez vous inscrire en envoyant un mail à benevolatle3c@gmail
 .com\, via facebook ou en passant nous voir au 3C !
ATTACH;FMTTYPE=image/jpeg:https://cafeculturelcitoyen.org/wp-content/uploa
 ds/2018/12/journéebénévolejpg_Page1.jpg
END:VEVENT
BEGIN:VTIMEZONE
TZID:Europe/Paris
X-LIC-LOCATION:Europe/Paris
BEGIN:DAYLIGHT
DTSTART:20220327T030000
TZOFFSETFROM:+0100
TZOFFSETTO:+0200
TZNAME:CEST
END:DAYLIGHT
END:VTIMEZONE
END:VCALENDAR