BEGIN:VCALENDAR
VERSION:2.0
PRODID:-//wp-events-plugin.com//7.2.3.1//EN
TZID:Europe/Paris
X-WR-TIMEZONE:Europe/Paris
BEGIN:VEVENT
UID:1778@cafeculturelcitoyen.org
DTSTART;TZID=Europe/Paris:20220713T193000
DTEND;TZID=Europe/Paris:20220713T210000
DTSTAMP:20220629T125323Z
URL:https://cafeculturelcitoyen.org/evenements/je-navais-pas-le-choix-reci
 ts-dafghanistan-jalil-shafayee/
SUMMARY:"Je n'avais pas le choix" - Récits d'Afghanistan\, Jalil Shafayee
DESCRIPTION:Issu de la minorité Hazara\, Jalil Shafayee est exilé en Fran
 ce. Auteur d'un premier livre intitulé "Je n'avais pas le choix"\, il rac
 onte l'envers du décor afghan\, la vie quotidienne sous les Talibans\, le
  choix déchirant de quitter ses proches\, l'exode\, l'exil...\n\nVenez le
  retrouver autour de ses récits d'Afghanistan\, pour l'écouter\, l'inter
 roger\, comprendre un peu mieux la situation dans ce pays en guerre depuis
  40 ans.\n\nCette présentation-discussion sera suivi d'une soirée "immer
 sive" pour partager un peu la culture afghane : repas afghan partagé et c
 oncert avec des musiciens traditionnels afghans.
ATTACH;FMTTYPE=image/jpeg:https://cafeculturelcitoyen.org/wp-content/uploa
 ds/2022/06/2-3.png
END:VEVENT
BEGIN:VTIMEZONE
TZID:Europe/Paris
X-LIC-LOCATION:Europe/Paris
BEGIN:DAYLIGHT
DTSTART:20220327T030000
TZOFFSETFROM:+0100
TZOFFSETTO:+0200
TZNAME:CEST
END:DAYLIGHT
END:VTIMEZONE
END:VCALENDAR