BEGIN:VCALENDAR
VERSION:2.0
PRODID:-//wp-events-plugin.com//7.2.3.1//EN
TZID:Europe/Paris
X-WR-TIMEZONE:Europe/Paris
BEGIN:VEVENT
UID:2177@cafeculturelcitoyen.org
DTSTART;TZID=Europe/Paris:20231118T170000
DTEND;TZID=Europe/Paris:20231118T190000
DTSTAMP:20231114T143105Z
URL:https://cafeculturelcitoyen.org/evenements/jam-session-au-3c-2023-11-1
 8/
SUMMARY:Impro Totale _ Boeuf/jam libre au 3C !
DESCRIPTION:Tous les Samedi aprem avant l'évènement du soir (et si rien d
 'autre n'est programmé en journée) c'est : l'impro totale :)\n\nAlors Ta
 pe le Bœuf avec tes potes\, sans agressivité aucunes \;)\nA disposition 
 : 1 piano\, 1 basse\, 1 gratte folk une autre en nylon plus une manouche p
 our gaucher\, un harmonica et j'en passe...\n\nBoeuf\, Jam\, Descarga\,  
 Sessions d’impro\, Open Mic\, appelle ça comme tu veux !!\n\nViens avec
  ton instrument ou les notres\, rencontrer des copines et des copains pour
  faire le bœuf sur la scène du 3C.\nStandards ou compos\, impros ou repr
 ises\, ce sera à vous de décider une fois sur le bandstand. L'important 
 c'est de s'éclater à plusieurs et de faire de bonnes rencontres musicale
 s.\n\nC'est de 17h à 19h samedi avant de rendre la scène pour le concert
   du samedi.
ATTACH;FMTTYPE=image/jpeg:https://cafeculturelcitoyen.org/wp-content/uploa
 ds/2023/03/musical_instruments_pattern_colored_stylized_icons_decor_684045
 0.png
END:VEVENT
BEGIN:VTIMEZONE
TZID:Europe/Paris
X-LIC-LOCATION:Europe/Paris
BEGIN:STANDARD
DTSTART:20231029T020000
TZOFFSETFROM:+0200
TZOFFSETTO:+0100
TZNAME:CET
END:STANDARD
END:VTIMEZONE
END:VCALENDAR