BEGIN:VCALENDAR
VERSION:2.0
PRODID:-//wp-events-plugin.com//7.2.3.1//EN
TZID:Europe/Paris
X-WR-TIMEZONE:Europe/Paris
BEGIN:VEVENT
UID:2142@cafeculturelcitoyen.org
DTSTART;TZID=Europe/Paris:20230325T170000
DTEND;TZID=Europe/Paris:20230325T190000
DTSTAMP:20230321T131903Z
URL:https://cafeculturelcitoyen.org/evenements/jam-session-au-3c-10/
SUMMARY:Jam Session au 3C !
DESCRIPTION:Tu aimes pousser le Blues ? La gamme pentatonique n'a pas de se
 cret pour toi\, et tu tutoies Mick Jagger ? Viens avec ton instrument renc
 ontrer des copines et des copains pour faire le bœuf sur la scène du 3C.
  Standards ou compos\, impros ou reprises\, ce sera à vous de décider un
 e fois sur le bandstand. L'important c'est de s'éclater à plusieurs et d
 e faire de bonnes rencontres musicales.\n\nC'est de 17h à 19h samedi avan
 t de rendre la scène pour le concert  du samedi.\n\nUne participation au
 x frais libre et consciente est attendue des participant-es\, sous une for
 me individuelle ou collective
ATTACH;FMTTYPE=image/jpeg:https://cafeculturelcitoyen.org/wp-content/uploa
 ds/2022/11/Capture-decran-2022-11-09-193633.png
END:VEVENT
BEGIN:VTIMEZONE
TZID:Europe/Paris
X-LIC-LOCATION:Europe/Paris
BEGIN:STANDARD
DTSTART:20221030T020000
TZOFFSETFROM:+0200
TZOFFSETTO:+0100
TZNAME:CET
END:STANDARD
END:VTIMEZONE
END:VCALENDAR