BEGIN:VCALENDAR
VERSION:2.0
PRODID:-//wp-events-plugin.com//7.2.3.1//EN
TZID:Europe/Paris
X-WR-TIMEZONE:Europe/Paris
BEGIN:VEVENT
UID:1644@cafeculturelcitoyen.org
DTSTART;TZID=Europe/Paris:20220224T190000
DTEND;TZID=Europe/Paris:20220224T220000
DTSTAMP:20220207T134538Z
URL:https://cafeculturelcitoyen.org/evenements/jam-musico-acoustique/
SUMMARY:Jam Musico (Acoustique)
DESCRIPTION:Le BDE de musicologie organise un Jam ouvert à tou.te.s !!
ATTACH;FMTTYPE=image/jpeg:https://cafeculturelcitoyen.org/wp-content/uploa
 ds/2021/12/index.png
END:VEVENT
BEGIN:VTIMEZONE
TZID:Europe/Paris
X-LIC-LOCATION:Europe/Paris
BEGIN:STANDARD
DTSTART:20211031T020000
TZOFFSETFROM:+0200
TZOFFSETTO:+0100
TZNAME:CET
END:STANDARD
END:VTIMEZONE
END:VCALENDAR