BEGIN:VCALENDAR
VERSION:2.0
PRODID:-//wp-events-plugin.com//7.2.3.1//EN
TZID:Europe/Paris
X-WR-TIMEZONE:Europe/Paris
BEGIN:VEVENT
UID:2463@cafeculturelcitoyen.org
DTSTART;TZID=Europe/Paris:20231115T200000
DTEND;TZID=Europe/Paris:20231115T231500
DTSTAMP:20231109T121834Z
URL:https://cafeculturelcitoyen.org/evenements/jam-jam-jazz-la-jam-jazz-da
 ix/
SUMMARY:JAM JAM JAZZ // La Jam Jazz d'Aix
DESCRIPTION:Tous les 3èmes Mercredis du moi c'est  : JAM JAM JAZZ !\nLa J
 AM JAM JAZZ c’est une séance d’improvisation musicale\, basée unique
 ment sur des standards de Jazz\, au 3C Café Culturel Citoyen à Aix-en-Pr
 ovence. Si vous êtes un-e musicien-ne du style\, si vous souhaitez jouer 
 deux ou trois morceaux\, discuter\, rencontrer\, boire un verre\, manger u
 ne délicieuse terrine… ou simplement écouter\, vous êtes les bienvenu
 es au 3C !\n\nEt si ça prend... on en fera un rendez-vous régulier \;)\n
 Jam pilotée par C@thy :)\n
ATTACH;FMTTYPE=image/jpeg:https://cafeculturelcitoyen.org/wp-content/uploa
 ds/2023/10/Capture-decran-2023-10-07-111347.png
END:VEVENT
BEGIN:VTIMEZONE
TZID:Europe/Paris
X-LIC-LOCATION:Europe/Paris
BEGIN:STANDARD
DTSTART:20231029T020000
TZOFFSETFROM:+0200
TZOFFSETTO:+0100
TZNAME:CET
END:STANDARD
END:VTIMEZONE
END:VCALENDAR