BEGIN:VCALENDAR
VERSION:2.0
PRODID:-//wp-events-plugin.com//7.2.3.1//EN
TZID:Europe/Paris
X-WR-TIMEZONE:Europe/Paris
BEGIN:VEVENT
UID:2427@cafeculturelcitoyen.org
DTSTART;TZID=Europe/Paris:20231014T200000
DTEND;TZID=Europe/Paris:20231014T230000
DTSTAMP:20231002T133729Z
URL:https://cafeculturelcitoyen.org/evenements/jam-du-bde-de-musicologie-d
 aix/
SUMMARY:Jam du BDE de Musicologie d'Aix
DESCRIPTION:Dans le cadre de l'intégration des nouveaux étudiant.e.s en m
 usicologie à Aix\, le 3C est heureux d'accueillir le BDE de musicologie p
 our une grande Jam Session au café !\n\nVenez nombreuses et nombreux pour
  assister aux envolées lyriques de ces jeunes musicien.ne.s et profiter d
 ans la joie et la bonne humeurs d'une bonne confiture de musique !\n\nP.S.
  Le 3C vous rappelle que la musique est à consommer sans modération !
ATTACH;FMTTYPE=image/jpeg:https://cafeculturelcitoyen.org/wp-content/uploa
 ds/2023/10/@bde.mus_.aix_.jpg
END:VEVENT
BEGIN:VTIMEZONE
TZID:Europe/Paris
X-LIC-LOCATION:Europe/Paris
BEGIN:DAYLIGHT
DTSTART:20230326T030000
TZOFFSETFROM:+0100
TZOFFSETTO:+0200
TZNAME:CEST
END:DAYLIGHT
END:VTIMEZONE
END:VCALENDAR