BEGIN:VCALENDAR
VERSION:2.0
PRODID:-//wp-events-plugin.com//7.2.3.1//EN
TZID:Europe/Paris
X-WR-TIMEZONE:Europe/Paris
BEGIN:VEVENT
UID:2428@cafeculturelcitoyen.org
DTSTART;TZID=Europe/Paris:20231123T203000
DTEND;TZID=Europe/Paris:20231123T220000
DTSTAMP:20231108T092916Z
URL:https://cafeculturelcitoyen.org/evenements/jam-du-bde-de-musicologie-d
 aix-2/
SUMMARY:Jam du BDE de Musicologie d'Aix
DESCRIPTION:Le 3C est heureux d'accueillir le BDE de musicologie pour une g
 rande Jam Session au café !\n\nVenez nombreuses et nombreux pour assister
  aux envolées lyriques de ces jeunes musicien.ne.s et profiter dans la jo
 ie et la bonne humeurs d'une bonne confiture de musique !\n\nP.S. Le 3C vo
 us rappelle que la musique est à consommer sans modération !
ATTACH;FMTTYPE=image/jpeg:https://cafeculturelcitoyen.org/wp-content/uploa
 ds/2023/10/IMG_0028-e1696496491826.jpg
END:VEVENT
BEGIN:VTIMEZONE
TZID:Europe/Paris
X-LIC-LOCATION:Europe/Paris
BEGIN:STANDARD
DTSTART:20231029T020000
TZOFFSETFROM:+0200
TZOFFSETTO:+0100
TZNAME:CET
END:STANDARD
END:VTIMEZONE
END:VCALENDAR