BEGIN:VCALENDAR
VERSION:2.0
PRODID:-//wp-events-plugin.com//7.2.3.1//EN
TZID:Europe/Paris
X-WR-TIMEZONE:Europe/Paris
BEGIN:VEVENT
UID:1753@cafeculturelcitoyen.org
DTSTART;TZID=Europe/Paris:20220616T183000
DTEND;TZID=Europe/Paris:20220616T203000
DTSTAMP:20220531T124152Z
URL:https://cafeculturelcitoyen.org/evenements/iremam-turquie-daujourdhui-
 et-nostalgies-ottomanes-des-reves-dempire/
SUMMARY:IREMAM - Turquie d’aujourd’hui et nostalgies ottomanes : des r
 êves d’empire ?
DESCRIPTION:\n\n\n\n"Turquie d’aujourd’hui et nostalgies ottomanes : de
 s rêves d’empire ?" par  Juliette Dumas (maîtresse de conférences\
 , AMU/IREMAM)\n\nL'atelier sera animé par Guillaume Fourmont\, rédacteur
  en chef de la revue Moyen Orient.\n\n\n\n
ATTACH;FMTTYPE=image/jpeg:https://cafeculturelcitoyen.org/wp-content/uploa
 ds/2019/10/iremama.jpg
END:VEVENT
BEGIN:VTIMEZONE
TZID:Europe/Paris
X-LIC-LOCATION:Europe/Paris
BEGIN:DAYLIGHT
DTSTART:20220327T030000
TZOFFSETFROM:+0100
TZOFFSETTO:+0200
TZNAME:CEST
END:DAYLIGHT
END:VTIMEZONE
END:VCALENDAR