BEGIN:VCALENDAR
VERSION:2.0
PRODID:-//wp-events-plugin.com//7.2.3.1//EN
TZID:Europe/Paris
X-WR-TIMEZONE:Europe/Paris
BEGIN:VEVENT
UID:2240@cafeculturelcitoyen.org
DTSTART;TZID=Europe/Paris:20230412T183000
DTEND;TZID=Europe/Paris:20230412T200000
DTSTAMP:20230411T082524Z
URL:https://cafeculturelcitoyen.org/evenements/iremam-revue-moyen-orient-l
 e-fait-berbere-au-maghreb/
SUMMARY:IREMAM-Revue Moyen-Orient : Le fait berbère au Maghreb
DESCRIPTION:Le fait berbère au Maghreb\, avec : Kamel CHACHOUA (IREMAM\, C
 NRS\, AMU)\, Malika Assam (IREMAM\, CNRS\, AMU)
ATTACH;FMTTYPE=image/jpeg:https://cafeculturelcitoyen.org/wp-content/uploa
 ds/2023/03/Affiche-café-débat-site.png
END:VEVENT
BEGIN:VTIMEZONE
TZID:Europe/Paris
X-LIC-LOCATION:Europe/Paris
BEGIN:DAYLIGHT
DTSTART:20230326T030000
TZOFFSETFROM:+0100
TZOFFSETTO:+0200
TZNAME:CEST
END:DAYLIGHT
END:VTIMEZONE
END:VCALENDAR