BEGIN:VCALENDAR
VERSION:2.0
PRODID:-//wp-events-plugin.com//7.2.3.1//EN
TZID:Europe/Paris
X-WR-TIMEZONE:Europe/Paris
BEGIN:VEVENT
UID:2232@cafeculturelcitoyen.org
DTSTART;TZID=Europe/Paris:20230208T183000
DTEND;TZID=Europe/Paris:20230208T200000
DTSTAMP:20230302T140346Z
URL:https://cafeculturelcitoyen.org/evenements/iremam-revue-moyen-orient-f
 aire-du-terrain-en-periode-crise-ou-de-conflit-palestine-liban/
SUMMARY:IREMAM/Revue Moyen-Orient - Faire du terrain en période crise ou d
 e conflit (Palestine\, Liban)
DESCRIPTION:Faire du terrain en période crise ou de conflit (Palestine\, L
 iban) avec\nCédric Parizot (IREMAM\, CNRS)\nLama Kabbanji (IRD\, CEPED)
 \n\n&nbsp\;\n\n 
ATTACH;FMTTYPE=image/jpeg:https://cafeculturelcitoyen.org/wp-content/uploa
 ds/2023/01/Sans-titre.jpg
END:VEVENT
BEGIN:VTIMEZONE
TZID:Europe/Paris
X-LIC-LOCATION:Europe/Paris
BEGIN:STANDARD
DTSTART:20221030T020000
TZOFFSETFROM:+0200
TZOFFSETTO:+0100
TZNAME:CET
END:STANDARD
END:VTIMEZONE
END:VCALENDAR