BEGIN:VCALENDAR
VERSION:2.0
PRODID:-//wp-events-plugin.com//7.2.3.1//EN
TZID:Europe/Paris
X-WR-TIMEZONE:Europe/Paris
BEGIN:VEVENT
UID:2342@cafeculturelcitoyen.org
DTSTART;TZID=Europe/Paris:20230913T183000
DTEND;TZID=Europe/Paris:20230913T200000
DTSTAMP:20230809T135701Z
URL:https://cafeculturelcitoyen.org/evenements/iremam-revue-moyen-orient-c
 onference-sujet-a-venir/
SUMMARY:IREMAM-Revue Moyen-Orient : conférence\, sujet à venir
DESCRIPTION:sujet à venir
ATTACH;FMTTYPE=image/jpeg:https://cafeculturelcitoyen.org/wp-content/uploa
 ds/2023/08/Capture-decran-2022-11-17-120827-1.jpg
END:VEVENT
BEGIN:VTIMEZONE
TZID:Europe/Paris
X-LIC-LOCATION:Europe/Paris
BEGIN:DAYLIGHT
DTSTART:20230326T030000
TZOFFSETFROM:+0100
TZOFFSETTO:+0200
TZNAME:CEST
END:DAYLIGHT
END:VTIMEZONE
END:VCALENDAR