BEGIN:VCALENDAR
VERSION:2.0
PRODID:-//wp-events-plugin.com//7.2.3.1//EN
TZID:Europe/Paris
X-WR-TIMEZONE:Europe/Paris
BEGIN:VEVENT
UID:2267@cafeculturelcitoyen.org
DTSTART;TZID=Europe/Paris:20230517T183000
DTEND;TZID=Europe/Paris:20230517T200000
DTSTAMP:20230427T161225Z
URL:https://cafeculturelcitoyen.org/evenements/iremam-revue-moyen-orient-a
 rt-et-creation-artistique-en-palestine/
SUMMARY:IREMAM\, Revue Moyen-Orient - Art et création artistique en Palest
 ine
DESCRIPTION:Avec Marion Slitine\, anthropologue et chercheuse post-doctoral
 e\, EHESS\, MUCEM
ATTACH;FMTTYPE=image/jpeg:https://cafeculturelcitoyen.org/wp-content/uploa
 ds/2023/04/Capture-decran-2023-04-27-180904.png
END:VEVENT
BEGIN:VTIMEZONE
TZID:Europe/Paris
X-LIC-LOCATION:Europe/Paris
BEGIN:DAYLIGHT
DTSTART:20230326T030000
TZOFFSETFROM:+0100
TZOFFSETTO:+0200
TZNAME:CEST
END:DAYLIGHT
END:VTIMEZONE
END:VCALENDAR