BEGIN:VCALENDAR
VERSION:2.0
PRODID:-//wp-events-plugin.com//7.2.3.1//EN
TZID:Europe/Paris
X-WR-TIMEZONE:Europe/Paris
BEGIN:VEVENT
UID:1968@cafeculturelcitoyen.org
DTSTART;TZID=Europe/Paris:20221214T183000
DTEND;TZID=Europe/Paris:20221214T200000
DTSTAMP:20221130T101939Z
URL:https://cafeculturelcitoyen.org/evenements/iremam-liran-un-regime-en-s
 ursis/
SUMMARY:IREMAM - L'Iran\, un régime en sursis ?
DESCRIPTION:avec Clément Therme\, spécialiste du monde iranien et Guillau
 me Fourmont\, rédacteur en chef des revues Moyen-orient et Carto
ATTACH;FMTTYPE=image/jpeg:https://cafeculturelcitoyen.org/wp-content/uploa
 ds/2022/11/Capture-decran-2022-11-30-111506.jpg
END:VEVENT
BEGIN:VTIMEZONE
TZID:Europe/Paris
X-LIC-LOCATION:Europe/Paris
BEGIN:STANDARD
DTSTART:20221030T020000
TZOFFSETFROM:+0200
TZOFFSETTO:+0100
TZNAME:CET
END:STANDARD
END:VTIMEZONE
END:VCALENDAR