BEGIN:VCALENDAR
VERSION:2.0
PRODID:-//wp-events-plugin.com//7.2.3.1//EN
TZID:Europe/Paris
X-WR-TIMEZONE:Europe/Paris
BEGIN:VEVENT
UID:1993@cafeculturelcitoyen.org
DTSTART;TZID=Europe/Paris:20230118T183000
DTEND;TZID=Europe/Paris:20230118T200000
DTSTAMP:20230113T195242Z
URL:https://cafeculturelcitoyen.org/evenements/iremam-la-question-kurde-en
 -france/
SUMMARY:IREMAM/Revue Moyen-Orient - La question kurde en France
DESCRIPTION:La question kurde en France\n\nRémi Carcélès (MESOPLHIS\, AM
 U\, CNRS)\n\n 
ATTACH;FMTTYPE=image/jpeg:https://cafeculturelcitoyen.org/wp-content/uploa
 ds/2022/12/L1009633-scaled.jpg
END:VEVENT
BEGIN:VTIMEZONE
TZID:Europe/Paris
X-LIC-LOCATION:Europe/Paris
BEGIN:STANDARD
DTSTART:20221030T020000
TZOFFSETFROM:+0200
TZOFFSETTO:+0100
TZNAME:CET
END:STANDARD
END:VTIMEZONE
END:VCALENDAR