BEGIN:VCALENDAR
VERSION:2.0
PRODID:-//wp-events-plugin.com//7.2.3.1//EN
TZID:Europe/Paris
X-WR-TIMEZONE:Europe/Paris
BEGIN:VEVENT
UID:1942@cafeculturelcitoyen.org
DTSTART;TZID=Europe/Paris:20221123T183000
DTEND;TZID=Europe/Paris:20221123T214500
DTSTAMP:20221122T180554Z
URL:https://cafeculturelcitoyen.org/evenements/iremam-etre-etudiant-dans-l
 e-monde-arabe/
SUMMARY:IREMAM - L’édition dans le monde arabe : le cas de la Tunisie
DESCRIPTION:23 NOVEMBRE 2022\nL’édition dans le monde arabe : le cas de
  la Tunisie\nAlia Aliou (IREMAM\, CNRS\, AMU)
ATTACH;FMTTYPE=image/jpeg:https://cafeculturelcitoyen.org/wp-content/uploa
 ds/2019/10/iremama.jpg
END:VEVENT
BEGIN:VTIMEZONE
TZID:Europe/Paris
X-LIC-LOCATION:Europe/Paris
BEGIN:STANDARD
DTSTART:20221030T020000
TZOFFSETFROM:+0200
TZOFFSETTO:+0100
TZNAME:CET
END:STANDARD
END:VTIMEZONE
END:VCALENDAR