BEGIN:VCALENDAR
VERSION:2.0
PRODID:-//wp-events-plugin.com//7.2.3.1//EN
TZID:Europe/Paris
X-WR-TIMEZONE:Europe/Paris
BEGIN:VEVENT
UID:2315@cafeculturelcitoyen.org
DTSTART;TZID=Europe/Paris:20230628T200000
DTEND;TZID=Europe/Paris:20230628T220000
DTSTAMP:20230619T070714Z
URL:https://cafeculturelcitoyen.org/evenements/intime-presentation-spectac
 le-de-son-ouvrage-par-blanche-martire/
SUMMARY:"Intime" - Présentation-Spectacle de son ouvrage par Blanche Marti
 re
DESCRIPTION:Spectacle mis en musique et lectures du livre  de Blanche Mart
 ire :\nIntime s'est construit grâce à des pans de mon journal intime et 
 a été écrit après un diagnostic de trouble du spectre autistique lége
 r. Ce recueil explore plusieurs thèmes tels que la difficulté à se lier
  aux autres\, la différence\, l'hypersensibilité. Il est à la fois un t
 ravail d'introspection mais questionne aussi le lecteur. En position exté
 rieure\, d'observateur\, il renverse les évidences : qu'est-ce qu'une ém
 otion ?\, qu'est-ce qu'un échange etc....\nIl est édité chez Frison Roc
 he Belles lettres pour leur collection OR des Lignes\, celle-ci met à l'h
 onneur la poésie moderne\, inspirée par Rupi Kaur."
ATTACH;FMTTYPE=image/jpeg:https://cafeculturelcitoyen.org/wp-content/uploa
 ds/2023/06/1685629704581blob.png
END:VEVENT
BEGIN:VTIMEZONE
TZID:Europe/Paris
X-LIC-LOCATION:Europe/Paris
BEGIN:DAYLIGHT
DTSTART:20230326T030000
TZOFFSETFROM:+0100
TZOFFSETTO:+0200
TZNAME:CEST
END:DAYLIGHT
END:VTIMEZONE
END:VCALENDAR