BEGIN:VCALENDAR
VERSION:2.0
PRODID:-//wp-events-plugin.com//7.2.3.1//EN
TZID:Europe/Paris
X-WR-TIMEZONE:Europe/Paris
BEGIN:VEVENT
UID:2598@cafeculturelcitoyen.org
DTSTART;TZID=Europe/Paris:20231125T183000
DTEND;TZID=Europe/Paris:20231125T193000
DTSTAMP:20231123T144849Z
URL:https://cafeculturelcitoyen.org/evenements/initiation-aux-danses-breto
 nnes-libre-participation/
SUMMARY:Initiation aux danses bretonnes (libre participation)
DESCRIPTION:Selon les envies et les possibilités nous verrons le pilé men
 u\, le rond et bal de paludier\, rond de Saint-Julien-de-Concelles\, bal d
 e Rhuys...
ATTACH;FMTTYPE=image/jpeg:https://cafeculturelcitoyen.org/wp-content/uploa
 ds/2023/11/Danse-Bretonne-e1700750925391.jpg
END:VEVENT
BEGIN:VTIMEZONE
TZID:Europe/Paris
X-LIC-LOCATION:Europe/Paris
BEGIN:STANDARD
DTSTART:20231029T020000
TZOFFSETFROM:+0200
TZOFFSETTO:+0100
TZNAME:CET
END:STANDARD
END:VTIMEZONE
END:VCALENDAR