BEGIN:VCALENDAR
VERSION:2.0
PRODID:-//wp-events-plugin.com//7.2.3.1//EN
TZID:Europe/Paris
X-WR-TIMEZONE:Europe/Paris
BEGIN:VEVENT
UID:1683@cafeculturelcitoyen.org
DTSTART;TZID=Europe/Paris:20220428T170000
DTEND;TZID=Europe/Paris:20220428T190000
DTSTAMP:20220411T180309Z
URL:https://cafeculturelcitoyen.org/evenements/initiation-a-la-sophrologie
 -4/
SUMMARY:Initiation à la sophrologie
DESCRIPTION:Séances de groupe gratuite d'une heure animée par Sophie Laco
 ur formée à l'école de sophrologie d'Aix-Marseille.
ATTACH;FMTTYPE=image/jpeg:https://cafeculturelcitoyen.org/wp-content/uploa
 ds/2022/01/Sans-titre86.png
END:VEVENT
BEGIN:VTIMEZONE
TZID:Europe/Paris
X-LIC-LOCATION:Europe/Paris
BEGIN:DAYLIGHT
DTSTART:20220327T030000
TZOFFSETFROM:+0100
TZOFFSETTO:+0200
TZNAME:CEST
END:DAYLIGHT
END:VTIMEZONE
END:VCALENDAR