BEGIN:VCALENDAR
VERSION:2.0
PRODID:-//wp-events-plugin.com//7.2.3.1//EN
TZID:Europe/Paris
X-WR-TIMEZONE:Europe/Paris
BEGIN:VEVENT
UID:1682@cafeculturelcitoyen.org
DTSTART;TZID=Europe/Paris:20220218T170000
DTEND;TZID=Europe/Paris:20220218T170000
DTSTAMP:20220207T131905Z
URL:https://cafeculturelcitoyen.org/evenements/initiation-a-la-sophrologie
 -3/
SUMMARY:Initiation à la Sophrologie
DESCRIPTION:Séances de groupe gratuite d'une heure animée par Sophie Laco
 ur en formation à l'école de sophrologie d'Aix-Marseille. Une Séance à
  17h et une séance à 18h.
ATTACH;FMTTYPE=image/jpeg:https://cafeculturelcitoyen.org/wp-content/uploa
 ds/2022/01/Sans-titre86.png
END:VEVENT
BEGIN:VTIMEZONE
TZID:Europe/Paris
X-LIC-LOCATION:Europe/Paris
BEGIN:STANDARD
DTSTART:20211031T020000
TZOFFSETFROM:+0200
TZOFFSETTO:+0100
TZNAME:CET
END:STANDARD
END:VTIMEZONE
END:VCALENDAR