BEGIN:VCALENDAR
VERSION:2.0
PRODID:-//wp-events-plugin.com//7.2.3.1//EN
TZID:Europe/Paris
X-WR-TIMEZONE:Europe/Paris
BEGIN:VEVENT
UID:2381@cafeculturelcitoyen.org
DTSTART;TZID=Europe/Paris:20231030T150000
DTEND;TZID=Europe/Paris:20231030T170000
DTSTAMP:20230925T142018Z
URL:https://cafeculturelcitoyen.org/evenements/initiation-a-la-mediation/
SUMMARY:Initiation à la médiation
DESCRIPTION:Vous avez envie d'apaiser vos relations personnelles et avec au
 trui ?\n\nVous avez envie d'affiner et d'exercer votre sens de la médiati
 on ?\n\nRejoignez nous le lundi 30 octobre de 16h à 18h30 pour une initia
 tion à la médiation par Alessandra Blache\, référente de la commission
  médiation du 3C\, à l'issu de laquelle vous pourrez intégrer si vous s
 ouhaitez la commission qui permet de gérer les conflits internes et exter
 nes au 3C.\n\nInscriptions : 07 85 54 90 46
END:VEVENT
BEGIN:VTIMEZONE
TZID:Europe/Paris
X-LIC-LOCATION:Europe/Paris
BEGIN:STANDARD
DTSTART:20231029T020000
TZOFFSETFROM:+0200
TZOFFSETTO:+0100
TZNAME:CET
END:STANDARD
END:VTIMEZONE
END:VCALENDAR