BEGIN:VCALENDAR
VERSION:2.0
PRODID:-//wp-events-plugin.com//7.2.3.1//EN
TZID:Europe/Paris
X-WR-TIMEZONE:Europe/Paris
BEGIN:VEVENT
UID:2619@cafeculturelcitoyen.org
DTSTART;TZID=Europe/Paris:20240118T200000
DTEND;TZID=Europe/Paris:20240118T211500
DTSTAMP:20231211T110038Z
URL:https://cafeculturelcitoyen.org/evenements/henri-et-jane-cancan-et-con
 fidences/
SUMMARY:Henri et Jane - Cancan et Confidences
DESCRIPTION:Le French Cancan est mondialement connu et célèbre la fête P
 arisienne.\n\nCe que l’on sait moins\, c’est que cette danse a été l
 ’occasion pour ses pionnières\, à la fin du XIXème siècle\,  de se 
 réapproprier leur esprit et leur corps\, de revendiquer leur identité f
 éminine\, en prônant une danse loin des carcans artistiques classiques\,
  et en y parodiant habilement les piliers du pouvoir masculin d’alors\, 
 à savoir l’église\, l’armée\, la loi.\n\n\n"Henri et Jane - Cancan
  et Confidences" est une pièce militante qui aborde\, à travers la vie 
 de Jane Avril\, la lutte des femmes pour disposer librement de leur corps
  et de leur esprit.\nEn effet\, à l'aube du XXème siècle\, nombre de fe
 mmes - et quasiment que des femmes - étaient internées dans des asiles p
 sychiatriques\, soumis à l'arbitraire des médecins\, de leurs maris\, de
  leurs familles\, de leurs parents.  Leurs corps étaient comprimés dans
  des corsets pour obéir au diktat de la mode.  La prostitution était un
  fait établi\, dissimulée dans des maisons de tolérance\, pourtant conn
 ues et visitées par des hommes de tout rang et de toute situation.\n\n\nC
 ette pièce\, c’est aussi la rencontre de deux âmes sœurs\, deux artis
 tes boulimiques\, passionnés jusqu'à la folie par leur art : la danse po
 ur Jane Avril\, la peinture et les affiches pour Henri de Toulouse-Lautrec
  \; ces figures du monde Montmartrois\,  amoureux du corps de la femme\, 
 vont s’aimer\, et se nourrir l’un l’autre en puisant dans leur passi
 on créatrice.\n\nCette pièce haute en couleur montre leur vitalité\, le
 ur folie joyeuse\, mais aussi les démons qui les assaillent.\n\nElle a re
 çu un bel accueil au Festival d’Avignon et a été sélectionnée « Co
 up de cœur de la presse Avignon Off 2023.
ATTACH;FMTTYPE=image/jpeg:https://cafeculturelcitoyen.org/wp-content/uploa
 ds/2023/12/Henri-et-Jane.png
END:VEVENT
BEGIN:VTIMEZONE
TZID:Europe/Paris
X-LIC-LOCATION:Europe/Paris
BEGIN:STANDARD
DTSTART:20231029T020000
TZOFFSETFROM:+0200
TZOFFSETTO:+0100
TZNAME:CET
END:STANDARD
END:VTIMEZONE
END:VCALENDAR