BEGIN:VCALENDAR
VERSION:2.0
PRODID:-//wp-events-plugin.com//7.2.3.1//EN
TZID:Europe/Paris
X-WR-TIMEZONE:Europe/Paris
BEGIN:VEVENT
UID:4250@cafeculturelcitoyen.org
DTSTART;TZID=Europe/Paris:20260314T100000
DTEND;TZID=Europe/Paris:20260314T170000
DTSTAMP:20250930T152944Z
URL:https://cafeculturelcitoyen.org/evenements/gratiferia-venez-piocher-et
 -ramenez-ce-que-vous-voulez-9/
SUMMARY:Gratiferia : Venez piocher et ramenez ce que vous voulez !
DESCRIPTION:Le concept: Vous pouvez ramener des vêtements et/ou objets en 
 bon état dont vous ne vous servez pas mais aussi venir en prendre sans en
  avoir apporté.\nOn vous donne rendez-vous samedi 14 mars 2026 dés 10 h
 eures et jusqu'à 17h au café\n\nFête de la gratuité ! Venez donner et 
 prendre (sans obligation de donner) des objets et vêtements pour leur red
 onner une nouvelle vie et lutter contre le gaspillage !\n
ATTACH;FMTTYPE=image/jpeg:https://cafeculturelcitoyen.org/wp-content/uploa
 ds/2017/10/nh.jpg
END:VEVENT
BEGIN:VTIMEZONE
TZID:Europe/Paris
X-LIC-LOCATION:Europe/Paris
BEGIN:STANDARD
DTSTART:20251026T020000
TZOFFSETFROM:+0200
TZOFFSETTO:+0100
TZNAME:CET
END:STANDARD
END:VTIMEZONE
END:VCALENDAR