BEGIN:VCALENDAR
VERSION:2.0
PRODID:-//wp-events-plugin.com//7.2.3.1//EN
TZID:Europe/Paris
X-WR-TIMEZONE:Europe/Paris
BEGIN:VEVENT
UID:1411@cafeculturelcitoyen.org
DTSTART;TZID=Europe/Paris:20230611T100000
DTEND;TZID=Europe/Paris:20230611T170000
DTSTAMP:20230529T184447Z
URL:https://cafeculturelcitoyen.org/evenements/gratiferia-venez-piocher-et
 -ramenez-ce-que-vous-voulez-6/
SUMMARY:10 ans du 3C - Grande Gratiferia : Venez piocher et ramenez ce que 
 vous voulez !
DESCRIPTION:Le concept: Vous pouvez ramener des vêtements et/ou objets en 
 bon état dont vous ne vous servez pas mais aussi venir en prendre sans en
  avoir apporté.\nOn vous donne rendez-vous dimanche 11 juin dés 10 heure
 s et jusqu'à 17h au café\n\nFête de la gratuité ! Venez donner et pren
 dre (sans obligation de donner) des objets et vêtements pour leur redonne
 r une nouvelle vie et lutter contre le gaspillage !\n
ATTACH;FMTTYPE=image/jpeg:https://cafeculturelcitoyen.org/wp-content/uploa
 ds/2017/10/nh.jpg
END:VEVENT
BEGIN:VTIMEZONE
TZID:Europe/Paris
X-LIC-LOCATION:Europe/Paris
BEGIN:DAYLIGHT
DTSTART:20230326T030000
TZOFFSETFROM:+0100
TZOFFSETTO:+0200
TZNAME:CEST
END:DAYLIGHT
END:VTIMEZONE
END:VCALENDAR