BEGIN:VCALENDAR
VERSION:2.0
PRODID:-//wp-events-plugin.com//7.2.3.1//EN
TZID:Europe/Paris
X-WR-TIMEZONE:Europe/Paris
BEGIN:VEVENT
UID:1930@cafeculturelcitoyen.org
DTSTART;TZID=Europe/Paris:20221021T190000
DTEND;TZID=Europe/Paris:20221021T223000
DTSTAMP:20221015T073323Z
URL:https://cafeculturelcitoyen.org/evenements/grande-soiree-etudiante-ave
 c-scene-ouverte/
SUMMARY:Grande soirée étudiante ! Avec scène ouverte !
DESCRIPTION:Nouvel arrivant-e à Aix ? Envie de découvrir la ville autreme
 nt ? Rencontrer de nouvelles personnes\, débattre\, échanger\, boire des
  coups ... dans le seul lieu alternatif d'Aix ?!\n\nViens donc vendredi 21
  octobre pour faire la connaissance du projet du 3C\, et surtout passer un
  bon moment : on te propose une scène ouverte\, où tu peux te produire o
 u partager la scène avec quelqu'un d'autre\, ou simplement assister aux p
 restations des artistes\, discuter avec ton voisin de bar\, ou avec les b
 énévoles du 3C.\n\nLe Groupe Rocky Roads (Rock et musique irlandaise) se
 ra là pour assurer l'ambiance et appuyer les personnes qui ont envie de c
 hanter ou de jouer !\n\n&nbsp\;
ATTACH;FMTTYPE=image/jpeg:https://cafeculturelcitoyen.org/wp-content/uploa
 ds/2022/10/Capture-decran-2022-10-12-194034.jpg
END:VEVENT
BEGIN:VTIMEZONE
TZID:Europe/Paris
X-LIC-LOCATION:Europe/Paris
BEGIN:DAYLIGHT
DTSTART:20220327T030000
TZOFFSETFROM:+0100
TZOFFSETTO:+0200
TZNAME:CEST
END:DAYLIGHT
END:VTIMEZONE
END:VCALENDAR