BEGIN:VCALENDAR
VERSION:2.0
PRODID:-//wp-events-plugin.com//7.2.3.1//EN
TZID:Europe/Paris
X-WR-TIMEZONE:Europe/Paris
BEGIN:VEVENT
UID:2287@cafeculturelcitoyen.org
DTSTART;TZID=Europe/Paris:20230927T190000
DTEND;TZID=Europe/Paris:20230927T223000
DTSTAMP:20230901T092232Z
URL:https://cafeculturelcitoyen.org/evenements/grande-soiree-etudiante-ave
 c-scene-ouverte-2/
SUMMARY:Grande soirée étudiante ! Avec scène ouverte !
DESCRIPTION:Nouvel arrivant-e à Aix ? Envie de découvrir la ville autreme
 nt ? Rencontrer de nouvelles personnes\, débattre\, échanger\, boire des
  coups ... dans le seul lieu alternatif d'Aix ?!\n\nViens donc mercredi 27
  septembre pour faire la connaissance du projet du 3C\, et surtout passer 
 un bon moment : on te propose un quiz suivi d'une scène ouverte\, où tu 
 peux te produire ou partager la scène avec quelqu'un d'autre\, ou simplem
 ent assister aux prestations des artistes\, discuter avec ton voisin de ba
 r\, ou avec les bénévoles du 3C.\n\n&nbsp\;\n\n&nbsp\;
ATTACH;FMTTYPE=image/jpeg:https://cafeculturelcitoyen.org/wp-content/uploa
 ds/2023/05/0.jpg
END:VEVENT
BEGIN:VTIMEZONE
TZID:Europe/Paris
X-LIC-LOCATION:Europe/Paris
BEGIN:DAYLIGHT
DTSTART:20230326T030000
TZOFFSETFROM:+0100
TZOFFSETTO:+0200
TZNAME:CEST
END:DAYLIGHT
END:VTIMEZONE
END:VCALENDAR