BEGIN:VCALENDAR
VERSION:2.0
PRODID:-//wp-events-plugin.com//7.2.3.1//EN
TZID:Europe/Paris
X-WR-TIMEZONE:Europe/Paris
BEGIN:VEVENT
UID:1976@cafeculturelcitoyen.org
DTSTART;TZID=Europe/Paris:20221220T190000
DTEND;TZID=Europe/Paris:20221220T220000
DTSTAMP:20221215T084917Z
URL:https://cafeculturelcitoyen.org/evenements/grande-soiree-de-soutien-au
 -3c/
SUMMARY:Grande soirée de soutien au 3C : Soupe au Rock !
DESCRIPTION:Notre café a besoin de soutien financier\, comme vous le savez
 . C'est pourquoi nous vous proposons\, juste avant les fêtes\, de nous re
 trouver pour un temps de partage et de solidarité.\n\nAu programme de cet
 te soirée : concours de soupe ! Mettez-vous aux fourneaux pour préparer 
 votre recette de soupe préférée à faire partager à tous-tes les prés
 ente-es. Venez vers 19h avec votre soupe déjà prête\, nous la réchauff
 erons sur place.\n\nDeuxième temps fort : Alain Filippi*\, sa voix et sa 
 guitare nous font l'amitié d'un concert dont toute la recette viendra en 
 soutien du 3C. On le remercie chaudement !\n\nNotre café a besoin de sout
 ien ... financier\, mais aussi de soutien moral et d'engagements de nouvea
 ux et nouvelles bénévoles. Alors venez nombreux et nombreuses !\n\nIl y 
 aura de la musique\, un repas partagé et de la solidarité !\n\n*Sur Alai
 n Filippi : Alain Filippi\, Auteur-Compositeur-Interprète\, promenant sa 
 guitare aux 4 coins du pays\, a pu se rendre compte lors de ses multiples 
 représentations\, concerts\,\nfestivals\, ou "lives" intimistes\, qu'il y
  a toujours un point commun qui se dégage\, la\nconnivence et l'échange 
 avec le public\, grâce a des mélodies et des textes qui se\nretiennent i
 nstantanément.\nInfluencé par une musique « franco-anglo-saxonne »\, i
 l définit sa musique comme\nde la « variété-pop »\, touchant ainsi un
  large éventail de personnes. Le but est de\ndonner le maximum d’émoti
 ons...\nAprès avoir joué à plusieurs reprises en première partie de Mi
 chael Jones \, qui\nl'invitera également pour une émission spéciale\, "
 carte blanche"\, lui étant consacrée.\nAlain Filippi se retrouve ainsi p
 armi 2 autres invités Jacques Veneruso et un certain\nJean Jacques Goldma
 nn dans cette émission. Un grand honneur et surtout une\ngrande émotion 
 de vivre ça\, et de voir ainsi la confiance que lui porte Michael Jones.\
 n3 albums existent\, le premier un EP éponyme de 5 titres\, le second un 
 album\ncomplet "Le long des Airs" et le dernier\, "Certifié Non Conforme"
 .\nEn attendant la sortie de nouveaux titres prévus pour 2023.
ATTACH;FMTTYPE=image/jpeg:https://cafeculturelcitoyen.org/wp-content/uploa
 ds/2022/12/soupe-rock.jpg
END:VEVENT
BEGIN:VTIMEZONE
TZID:Europe/Paris
X-LIC-LOCATION:Europe/Paris
BEGIN:STANDARD
DTSTART:20221030T020000
TZOFFSETFROM:+0200
TZOFFSETTO:+0100
TZNAME:CET
END:STANDARD
END:VTIMEZONE
END:VCALENDAR