BEGIN:VCALENDAR
VERSION:2.0
PRODID:-//wp-events-plugin.com//7.2.3.1//EN
TZID:Europe/Paris
X-WR-TIMEZONE:Europe/Paris
BEGIN:VEVENT
UID:2253@cafeculturelcitoyen.org
DTSTART;TZID=Europe/Paris:20230408T190000
DTEND;TZID=Europe/Paris:20230408T223000
DTSTAMP:20230407T124007Z
URL:https://cafeculturelcitoyen.org/evenements/grand-blind-test-suivi-de-k
 araoke/
SUMMARY:Grand Blind Test\, suivi de Karaoke
DESCRIPTION:Samedi soir nous vous invitons\, vous\, à devenir les vedettes
  de la soirée. D'abord en concourant par équipes au Blind Test. Puis à 
 vous produire sur scène à l'occasion du KAraoke qui suivra.\n\nBonne cha
 nce à tous-tes !
ATTACH;FMTTYPE=image/jpeg:https://cafeculturelcitoyen.org/wp-content/uploa
 ds/2023/02/Capture-decran-2023-02-26-194222.png
END:VEVENT
BEGIN:VTIMEZONE
TZID:Europe/Paris
X-LIC-LOCATION:Europe/Paris
BEGIN:DAYLIGHT
DTSTART:20230326T030000
TZOFFSETFROM:+0100
TZOFFSETTO:+0200
TZNAME:CEST
END:DAYLIGHT
END:VTIMEZONE
END:VCALENDAR