BEGIN:VCALENDAR
VERSION:2.0
PRODID:-//wp-events-plugin.com//7.2.3.1//EN
TZID:Europe/Paris
X-WR-TIMEZONE:Europe/Paris
BEGIN:VEVENT
UID:1992@cafeculturelcitoyen.org
DTSTART;TZID=Europe/Paris:20230117T180000
DTEND;TZID=Europe/Paris:20230117T200000
DTSTAMP:20221215T092217Z
URL:https://cafeculturelcitoyen.org/evenements/galette-citoyenne-dattac/
SUMMARY:Galette citoyenne d'ATTAC
DESCRIPTION:Attac pays d'Aix  vous invite à une Galette citoyenne !\n\nPo
 ur retrouver ses adhérent.e.s\, sympathisant.e.s et partenaires de maniè
 re conviviale en ce début d'année.\n\nNous proposerons un Quizz sur les 
 retraites\, et des échanges sur nos prochaines actions contre les "crimin
 els climatiques".\n\nLes galettes seront offertes par Attac pays d'Aix
ATTACH;FMTTYPE=image/jpeg:https://cafeculturelcitoyen.org/wp-content/uploa
 ds/2022/12/Galette-citoyenne.jpg
END:VEVENT
BEGIN:VTIMEZONE
TZID:Europe/Paris
X-LIC-LOCATION:Europe/Paris
BEGIN:STANDARD
DTSTART:20221030T020000
TZOFFSETFROM:+0200
TZOFFSETTO:+0100
TZNAME:CET
END:STANDARD
END:VTIMEZONE
END:VCALENDAR