BEGIN:VCALENDAR
VERSION:2.0
PRODID:-//wp-events-plugin.com//7.2.3.1//EN
TZID:Europe/Paris
X-WR-TIMEZONE:Europe/Paris
BEGIN:VEVENT
UID:1807@cafeculturelcitoyen.org
DTSTART;TZID=Europe/Paris:20220801T200000
DTEND;TZID=Europe/Paris:20220821T160000
DTSTAMP:20220802T154833Z
URL:https://cafeculturelcitoyen.org/evenements/fermeture-annuelle-du-3-c-d
 u-1er-au-21-aout/
SUMMARY:Fermeture annuelle du 3 C : du 1er au 21 août
DESCRIPTION:En souhaitant à tous et toutes de très bonnes vacances\, nous
  vous rappelons que notre café sera fermé du 1er au 21 août.\n\nA très
  bientôt !
ATTACH;FMTTYPE=image/jpeg:https://cafeculturelcitoyen.org/wp-content/uploa
 ds/2022/08/FERMETURE_ANNUELLE-4136297965.jpeg
END:VEVENT
BEGIN:VTIMEZONE
TZID:Europe/Paris
X-LIC-LOCATION:Europe/Paris
BEGIN:DAYLIGHT
DTSTART:20220327T030000
TZOFFSETFROM:+0100
TZOFFSETTO:+0200
TZNAME:CEST
END:DAYLIGHT
END:VTIMEZONE
END:VCALENDAR