BEGIN:VCALENDAR
VERSION:2.0
PRODID:-//wp-events-plugin.com//7.2.3.1//EN
TZID:Europe/Paris
X-WR-TIMEZONE:Europe/Paris
BEGIN:VEVENT
UID:2373@cafeculturelcitoyen.org
DTSTART;TZID=Europe/Paris:20231020T203000
DTEND;TZID=Europe/Paris:20231020T220000
DTSTAMP:20230914T153426Z
URL:https://cafeculturelcitoyen.org/evenements/farigola-chants-sociaux-et-
 politiques-occitans-concert/
SUMMARY:FARIGOLA\, chants sociaux et politiques occitans- Concert
DESCRIPTION:La farigola\, c'est le thym\, une plante de moyenne montagne pr
 ésente partout dans le Midi.\n\nSymbole de la confiance en la vie qui ne 
 saurait être éradiquée\, elle est aussi l’emblème de ralliement de c
 elles et ceux qui\, en Provence\, se sont opposé.e.s à la royauté et à
  l’Empire.\n\nFarigola réalise un travail d'interprétation de collecta
 ges issus de la tradition orale et de création de chansons sociales et po
 litiques des pays de langue d'oc.\n\nCe répertoire témoigne de la vitali
 té des cultures populaires\, notamment paysannes\, à travers leurs chant
 s de travail ou de migrations saisonnières et de leurs rituels festifs. M
 oqueries paysannes et chansons ironiques ciblent les maîtres et patrons e
 t rendent compte de la vie politique au ras des communautés villageoises 
 et du monde ouvrier naissant. Partage des colères et révoltes\, aspirati
 on à l'autonomie intime et politique\, solidarités et célébrations fes
 tives alimentent le creuset de ces expressions populaires au rythme des sa
 isons.\n\nLes voix se posent sur un bourdon sonore ou muet mais toujours p
 résent. Contrebasse et oud participent de la danse sonore\, tantôt au se
 rvice du jeu mélodique\, tantôt au service de la transe. Les percussions
  ne sont jamais bien loin. Aux airs suspendus de pastourelles succèdent l
 'énergie terrienne de la bourrée\, la gravité d'un hymne révolutionnai
 re ou l'esprit festif des farandoles.\n\nMarius Pourquier-Servoin (chant\,
  shruti box\, bendir\, tambour à cordes)\nMatthias Comby (chant\, oud\, b
 endir)\nNicolas Orselly (contrebasse)
ATTACH;FMTTYPE=image/jpeg:https://cafeculturelcitoyen.org/wp-content/uploa
 ds/2023/09/Capture-decran-2023-09-14-112112.jpg
END:VEVENT
BEGIN:VTIMEZONE
TZID:Europe/Paris
X-LIC-LOCATION:Europe/Paris
BEGIN:DAYLIGHT
DTSTART:20230326T030000
TZOFFSETFROM:+0100
TZOFFSETTO:+0200
TZNAME:CEST
END:DAYLIGHT
END:VTIMEZONE
END:VCALENDAR