BEGIN:VCALENDAR
VERSION:2.0
PRODID:-//wp-events-plugin.com//7.2.3.1//EN
TZID:Europe/Paris
X-WR-TIMEZONE:Europe/Paris
BEGIN:VEVENT
UID:1848@cafeculturelcitoyen.org
DTSTART;TZID=Europe/Paris:20220928T183000
DTEND;TZID=Europe/Paris:20220928T200000
DTSTAMP:20220922T091556Z
URL:https://cafeculturelcitoyen.org/evenements/extinction-rebellion-xr-reu
 nion-de-rentree-et-accueil-des-nouvelles-et-nouveaux/
SUMMARY:Extinction-Rébellion (XR) - Réunion de Rentrée et Accueil des no
 uvelles et nouveaux
DESCRIPTION:C'est la rentrée ! Scolaire mais également militante\, vous a
 vez des questions sur l'écologie et les luttes pour le climat\, envie de 
 vous engager... ? C'est le moment de venir rencontrer la section XR du pay
 s d'Aix !\n\nà très bientôt !\n\n&nbsp\;
ATTACH;FMTTYPE=image/jpeg:https://cafeculturelcitoyen.org/wp-content/uploa
 ds/2022/09/308145307_163812272900616_3467100620841214359_n.jpg
END:VEVENT
BEGIN:VTIMEZONE
TZID:Europe/Paris
X-LIC-LOCATION:Europe/Paris
BEGIN:DAYLIGHT
DTSTART:20220327T030000
TZOFFSETFROM:+0100
TZOFFSETTO:+0200
TZNAME:CEST
END:DAYLIGHT
END:VTIMEZONE
END:VCALENDAR