BEGIN:VCALENDAR
VERSION:2.0
PRODID:-//wp-events-plugin.com//7.2.3.1//EN
TZID:Europe/Paris
X-WR-TIMEZONE:Europe/Paris
BEGIN:VEVENT
UID:1688@cafeculturelcitoyen.org
DTSTART;TZID=Europe/Paris:20220408T183000
DTEND;TZID=Europe/Paris:20220430T220000
DTSTAMP:20220422T201739Z
URL:https://cafeculturelcitoyen.org/evenements/exposition-de-emmanuelle-co
 nti/
SUMMARY:Exposition Nathalie Moureau
DESCRIPTION:Venez découvrir les œuvres de Nathalie Moureau artiste invit
 ée au 3C pour le mois de avril. Un vernissage aura lieu le vendredi 08 av
 ril à partir de 18h30 \n\nLa peinture et le dessin ont toujours eu une pl
 ace importante dans ma vie\, des petites pauses créatives comme des bulle
 s d'oxygène qui sont vite devenues vitales pour mon équilibre\nD'abord a
 ttirée par les portraits aux crayons\, puis les paysages à l'aquarelle\,
  ma créativité a vite eu besoin de s'exprimer autrement que par la repro
 duction du réel\nAujourd'hui\, mes deux domaines de prédilection sont le
 s abstraits et les portraits animaliers stylisés\n           
                                    
ATTACH;FMTTYPE=image/jpeg:https://cafeculturelcitoyen.org/wp-content/uploa
 ds/2022/02/Sans-titre28.jpg
END:VEVENT
BEGIN:VTIMEZONE
TZID:Europe/Paris
X-LIC-LOCATION:Europe/Paris
BEGIN:DAYLIGHT
DTSTART:20220327T030000
TZOFFSETFROM:+0100
TZOFFSETTO:+0200
TZNAME:CEST
END:DAYLIGHT
END:VTIMEZONE
END:VCALENDAR