BEGIN:VCALENDAR
VERSION:2.0
PRODID:-//wp-events-plugin.com//7.2.3.1//EN
TZID:Europe/Paris
X-WR-TIMEZONE:Europe/Paris
BEGIN:VEVENT
UID:2284@cafeculturelcitoyen.org
DTSTART;TZID=Europe/Paris:20230510T190000
DTEND;TZID=Europe/Paris:20230510T210000
DTSTAMP:20230503T132322Z
URL:https://cafeculturelcitoyen.org/evenements/espoirs-revoltes-voyages-pr
 esentation-de-son-livre-par-gerard-perrier/
SUMMARY:Espoirs\, révoltes\, voyages - autour du livre Gérard Perrier
DESCRIPTION:Espoirs\, révoltes\, voyages -Modestes réflexions d'un soixan
 te-huitard pour l'avenir du monde. Présentation de son livre par Gérard 
 Perrier\n\nMai 68\, dans la cour de la Sorbonne... La vie de Gérard Perri
 er est désormais marquée\, il se lance dans une action militante combatt
 ive qui durera toute sa vie. C'est l'histoire d'un conflit social et écol
 ogique\, celui du TGV Méditerranée\, des années 90 « Cézanne\, révei
 lle-toi\, ils sont devenus fous ! »\, de Vitrolles laboratoire de l'extr
 ême- droite (1997-2002)\, de l'enseignement en collège en Guyane\, avec 
 la visite émouvante de J.-L. Mélenchon\, ministre de l'Enseignement prof
 essionnel en 2001\, de Jean-Louis Bianco et la Vigie de la laïcité\, de 
 la lutte contre le terrorisme et les aveuglements des phobies ethniques po
 ur un vivre-ensemble républicain et réinventer la gauche\, contre les s
 égrégations antimusulmanes\, antisémites\, racistes\, antiféministes..
 . Venez lire des voyages « artisanaux » dans le monde et ainsi comprendr
 e autrement hommes\, paysages\, civilisations que par les itinéraires des
  voyagistes normés\, ou entreprendre des marches à pied méditatives ver
 s Saint-Jacques-de- Compostelle et suivre des récits de moines du Moyen 
 Âge jusqu'aux grèves ouvrières pour poser un autre regard sur Marseille
  au XXIe siècle... Il n'y a pas d'avenir possible sans un humanisme qui 
 œuvre pour un destin collectif de tous les êtres humains.\n\nSoirée ani
 mée par Rémy Jean\n\n&nbsp\;
ATTACH;FMTTYPE=image/jpeg:https://cafeculturelcitoyen.org/wp-content/uploa
 ds/2023/05/Capture-decran-2023-05-03-141143.jpg
END:VEVENT
BEGIN:VTIMEZONE
TZID:Europe/Paris
X-LIC-LOCATION:Europe/Paris
BEGIN:DAYLIGHT
DTSTART:20230326T030000
TZOFFSETFROM:+0100
TZOFFSETTO:+0200
TZNAME:CEST
END:DAYLIGHT
END:VTIMEZONE
END:VCALENDAR