BEGIN:VCALENDAR
VERSION:2.0
PRODID:-//wp-events-plugin.com//7.2.3.1//EN
TZID:Europe/Paris
X-WR-TIMEZONE:Europe/Paris
BEGIN:VEVENT
UID:1811@cafeculturelcitoyen.org
DTSTART;TZID=Europe/Paris:20220825T090000
DTEND;TZID=Europe/Paris:20220825T170000
DTSTAMP:20220816T123551Z
URL:https://cafeculturelcitoyen.org/evenements/espace-reserve-pour-lassoci
 ation-afev/
SUMMARY:Espace réservé pour l'association AFEV
DESCRIPTION:De 9 heures à 17 heures l'espace est réservé pour un sémina
 ire de rentrée de l'association AFEV (Association de la fondation étudia
 nte pour la Ville). Après 17 heures\, les activités du café reprennent 
 normalement.
ATTACH;FMTTYPE=image/jpeg:https://cafeculturelcitoyen.org/wp-content/uploa
 ds/2022/08/Capture-decran-2022-08-16-143056.jpg
END:VEVENT
BEGIN:VTIMEZONE
TZID:Europe/Paris
X-LIC-LOCATION:Europe/Paris
BEGIN:DAYLIGHT
DTSTART:20220327T030000
TZOFFSETFROM:+0100
TZOFFSETTO:+0200
TZNAME:CEST
END:DAYLIGHT
END:VTIMEZONE
END:VCALENDAR