BEGIN:VCALENDAR
VERSION:2.0
PRODID:-//wp-events-plugin.com//7.2.3.1//EN
TZID:Europe/Paris
X-WR-TIMEZONE:Europe/Paris
BEGIN:VEVENT
UID:1808@cafeculturelcitoyen.org
DTSTART;TZID=Europe/Paris:20220801T130000
DTEND;TZID=Europe/Paris:20220821T170000
DTSTAMP:20220809T070820Z
URL:https://cafeculturelcitoyen.org/evenements/espace-de-co-working-pendan
 t-la-fermeture-du-3c/
SUMMARY:Espace de Co-working pendant la fermeture du 3C
DESCRIPTION:Bonjour !\n\nL'espace du café sera ouvert cet été tous les j
 ours de la semaine (ouvrable) de 13h à 17h  pour venir y travailler sur 
 vos projets. N'hésitez plus : il y a la clim' !\n\n&nbsp\;
ATTACH;FMTTYPE=image/jpeg:https://cafeculturelcitoyen.org/wp-content/uploa
 ds/2022/08/th-2110884798.jpeg
END:VEVENT
BEGIN:VTIMEZONE
TZID:Europe/Paris
X-LIC-LOCATION:Europe/Paris
BEGIN:DAYLIGHT
DTSTART:20220327T030000
TZOFFSETFROM:+0100
TZOFFSETTO:+0200
TZNAME:CEST
END:DAYLIGHT
END:VTIMEZONE
END:VCALENDAR