BEGIN:VCALENDAR
VERSION:2.0
PRODID:-//wp-events-plugin.com//7.2.3.1//EN
TZID:Europe/Paris
X-WR-TIMEZONE:Europe/Paris
BEGIN:VEVENT
UID:2441@cafeculturelcitoyen.org
DTSTART;TZID=Europe/Paris:20231122T203000
DTEND;TZID=Europe/Paris:20231122T213000
DTSTAMP:20231016T144235Z
URL:https://cafeculturelcitoyen.org/evenements/elizabeth-devlin-en-concert
 /
SUMMARY:Elizabeth Devlin en concert
DESCRIPTION:ELIZABETH DEVLIN (Brooklyn\, USA)Elizabeth Devlin est une musi
 cienne et poétesse originaire de Washington et installée à Brooklyn. Av
 ec sa voix magnétique et éthérée et son autoharpe\, elle défie les st
 ructures musicales traditionnelles\, construisant ses chansons comme des r
 écits miniatures\, des mondes magiques dans lesquels personnages\, fantas
 mes et temps s’entrechoquent.Son nouvel - et quatrième - album\, ‘My 
 Father's Country’\, sortira à l’automne 2023. Elle sera en tournée e
 n Allemagne\, Belgique\, France et Suisse du 8 au 26 novembre.‘Elizabeth
  Devlin chante ses couplets surréalistes en s’accompagnant à l’autoh
 arpe\, sa voix chevauchant les harmonies étrangement dissonantes qu’ell
 e trace avec ses mains.’- The New York Times‘Ce doit être dans la man
 ière dont Elizabeth Devlin chante de cette voix douce et flottante\, la m
 anière avec laquelle ces chansons s’aventurent hors de toute structure 
 traditionnelle\, la manière dont ses paroles peignent des récits abstrai
 ts qui cherchent plus vers la poésie que la chanson.’- Consequence of S
 ound\n\nLiensSite officiel: www.elizabethdevlinmusic.comBandcamp: https:
 //elizabethdevlin.bandcamp.comYouTube: www.youtube.com/user/AllAreRelativ
 e
ATTACH;FMTTYPE=image/jpeg:https://cafeculturelcitoyen.org/wp-content/uploa
 ds/2023/10/Elizabeth-Devlin-12-scaled.jpg
END:VEVENT
BEGIN:VTIMEZONE
TZID:Europe/Paris
X-LIC-LOCATION:Europe/Paris
BEGIN:STANDARD
DTSTART:20231029T020000
TZOFFSETFROM:+0200
TZOFFSETTO:+0100
TZNAME:CET
END:STANDARD
END:VTIMEZONE
END:VCALENDAR