BEGIN:VCALENDAR
VERSION:2.0
PRODID:-//wp-events-plugin.com//7.2.3.1//EN
TZID:Europe/Paris
X-WR-TIMEZONE:Europe/Paris
BEGIN:VEVENT
UID:1879@cafeculturelcitoyen.org
DTSTART;TZID=Europe/Paris:20221027T183000
DTEND;TZID=Europe/Paris:20221027T223000
DTSTAMP:20220928T115811Z
URL:https://cafeculturelcitoyen.org/evenements/distribution-panier-amap-2-
 2022-10-27/
SUMMARY:Distribution panier AMAP
DESCRIPTION:Nous avons le plaisir de vous annoncer l'ouverture d'une distri
 bution de paniers de légumes &amp\; fruits au 3C dès le 03 février. Ell
 e aura lieu ensuite tous les jeudis de 18h30 à 19h30.\n\nC'est un projet 
 avec l'AMAP d'Aix en Provence qui intervient déjà sur plusieurs sites et
  développe le lien avec des producteurs locaux. Nous proposerons des pani
 ers de fruits et légumes cultivés par Matthieu Rit à Venelles. L'adhés
 ion à l'AMAP est de 10€/ an à payer en chèque. L'inscription pour les
  paniers se fait sur 6 mois (avec différentes possibilités de paiement)\
 , pour assurer une certaine visibilité des besoins et un soutien au produ
 cteur. Les paniers sont à 20€ et demi paniers à 10€. Possibilité de
  faire un mois d’essai.\n\nAussi ! Pour cet évènement régulier\, on a
  besoin de bénévoles présent·es pour gérer les paniers\, le suivi de 
 la distribution et les adhésions. Nous recherchons actuellement un.e volo
 ntaire parmi les bénévole pour être référent.e des adhésions à l
 ong terme.\n\n\n\nPour plus d'infos\, vous pouvez nous joindre à cette ad
 resse : amap.3Caix@gmail.com
ATTACH;FMTTYPE=image/jpeg:https://cafeculturelcitoyen.org/wp-content/uploa
 ds/2022/01/amap.jpg
END:VEVENT
BEGIN:VTIMEZONE
TZID:Europe/Paris
X-LIC-LOCATION:Europe/Paris
BEGIN:DAYLIGHT
DTSTART:20220327T030000
TZOFFSETFROM:+0100
TZOFFSETTO:+0200
TZNAME:CEST
END:DAYLIGHT
END:VTIMEZONE
END:VCALENDAR