BEGIN:VCALENDAR
VERSION:2.0
PRODID:-//wp-events-plugin.com//7.2.3.1//EN
TZID:Europe/Paris
X-WR-TIMEZONE:Europe/Paris
BEGIN:VEVENT
UID:1814@cafeculturelcitoyen.org
DTSTART;TZID=Europe/Paris:20220908T183000
DTEND;TZID=Europe/Paris:20220908T234500
DTSTAMP:20220822T141223Z
URL:https://cafeculturelcitoyen.org/evenements/distribution-panier-amap-19
 /
SUMMARY:Distribution panier AMAP
DESCRIPTION: Comme tous les jeudis\, c'est la distribution de paniers de l
 égumes &amp\; fruits au 3C. Elle aura lieu de 18h30 à 19h30. \nC'est un
  projet avec l'AMAP d'Aix en Provence qui intervient déjà sur plusieurs 
 sites et développe le lien avec des producteurs locaux. Nous proposerons 
 des paniers de fruits et légumes cultivés par Matthieu Rit à Venelles. 
 L'adhésion à l'AMAP est de 10€/ an à payer en chèque. L'inscription 
 pour les paniers se fait sur 6 mois (avec différentes possibilités de pa
 iement)\, pour assurer une certaine visibilité des besoins et un soutien 
 au producteur. Les paniers sont à 20€ et demi paniers à 10€. Possibi
 lité de faire un mois d’essai.\n\n\nAussi ! Pour cet évènement régul
 ier\, on a besoin de bénévoles présent.es pour gérer les paniers\, le 
 suivi de la distribution et les adhésions. Nous recherchons actuellement 
 un.e volontaire parmi les bénévole pour être référent.e des adhés
 ions à long terme.\n\n\n\nPour plus d'infos\, vous pouvez nous joindre à
  cette adresse : amap.3Caix@gmail.com
ATTACH;FMTTYPE=image/jpeg:https://cafeculturelcitoyen.org/wp-content/uploa
 ds/2022/01/amap.jpg
END:VEVENT
BEGIN:VTIMEZONE
TZID:Europe/Paris
X-LIC-LOCATION:Europe/Paris
BEGIN:DAYLIGHT
DTSTART:20220327T030000
TZOFFSETFROM:+0100
TZOFFSETTO:+0200
TZNAME:CEST
END:DAYLIGHT
END:VTIMEZONE
END:VCALENDAR