BEGIN:VCALENDAR
VERSION:2.0
PRODID:-//wp-events-plugin.com//7.2.3.1//EN
TZID:Europe/Paris
X-WR-TIMEZONE:Europe/Paris
BEGIN:VEVENT
UID:2726@cafeculturelcitoyen.org
DTSTART;TZID=Europe/Paris:20240208T190000
DTEND;TZID=Europe/Paris:20240208T220000
DTSTAMP:20240116T142747Z
URL:https://cafeculturelcitoyen.org/evenements/debat-concert-en-soutien-a-
 sos-mediterranee/
SUMMARY:Débat – Concert en soutien à SOS Méditerranée
DESCRIPTION:\n 	19h : accueil au 3C\n 	19h30 : présentation des actions 
 de SOS Méditerranée\, échanges sur les migrations en méditerranée\nce
 ntrale\nL’association européenne SOS Méditerranée\, basée à Marseil
 le\, se consacre au sauvetage en mer des\nembarcations de migrants en dét
 resse\, grâce à son bateau ambulance l’Ocean Viking. Son action\ns’a
 ppuie sur le droit maritime international. Elle est cependant de plus en p
 lus entravée par les\npolitiques migratoires répressives des Etats europ
 éens. Le bateau est aujourd’hui retenu à quai dans\nle port de Bari en
  Italie. 2023 fut l’année la plus meurtrière en méditerranée central
 e depuis 2017.\nComment poursuivre l’action ? Qui sont les exilés seco
 urus et d’où viennent-ils ? Comment\ncontrecarrer les idées reçues s
 ur les migrations ? Comment fonctionne l’association ? Les bénévoles
 \ndu relais d’Aix en Provence viennent témoigner et dialoguer avec vous
 .\n 	20h30 : concert du groupe Le Combo de la cave\, entrée libre et sol
 idaire. Durée du concert : 1h\nLes spectateurs sont invités à faire un
  don au chapeau. La somme récoltée sera intégralement\nversée à SOS M
 éditerranée.\n\nLe Combo de la Cave\n\nUne formation composée de quatre
  membres qui\, si l'on additionne leurs âges\, totalisent à\neux tous pl
 us de deux cents ans... Deux siècles !!!\nRichard (chant et guitare acous
 tique)\, il pose rapidement ses exigences\, « Je chanterai\nseulement des
  chansons françaises qui ont du sens ». Chante et joue depuis son adoles
 cence.\nOlivier (saxo alto et basse)\, le dernier arrivé dans le groupe\,
  bassiste expérimenté et\nsaxophoniste de cœur.\nCyril (guitare électr
 ique et basse)\, la référence musicale\, l'oreille attentive et le maît
 re de\ncérémonie. Il veille aussi à la qualité du son produit par le g
 roupe.\nHervé (batterie) \, le plus jeune musicien bien que l'aîné des 
 quatre\, essaie de se muer en\nmétronome.\nPrintemps 2019 : Aménagement 
 dans la cave de Cyril d'un studio de répétition et\nd'enregistrement san
 s qu'elle perde sa fonction première de lieu de dégustation (pour les\np
 apilles et les oreilles) .\nFin 2019 : Choix des premiers morceaux à réi
 nterpréter. Le répertoire oscille entre humour\,\npoésie et chansons en
 gagées.\n2020 : Le Combo se met en place et élabore sa musique.\nQuelque
 s concerts intimistes les encouragent à se produire devant un public plus
  nombreux.\nUne cuvée exceptionnelle de chanson française\, exclusivemen
 t\, qui fait sourire\, voyager\,\nrêver\, réfléchir...des adaptations d
 e Brel\, Brassens\, M\, Pigalle\, beaucoup d'autres...et aussi\ndes compos
 itions.\nUn bon cru qui se doit de sortir de la cave. Ils sont prêts\, il
 s ont hâte...\nOriginalité et fantaisie à déguster sans modération to
 ut au long de ce moment de partage\nchaleureux.
ATTACH;FMTTYPE=image/jpeg:https://cafeculturelcitoyen.org/wp-content/uploa
 ds/2024/01/logo-SOS-EN-SOUTIEN-A.png
END:VEVENT
BEGIN:VTIMEZONE
TZID:Europe/Paris
X-LIC-LOCATION:Europe/Paris
BEGIN:STANDARD
DTSTART:20231029T020000
TZOFFSETFROM:+0200
TZOFFSETTO:+0100
TZNAME:CET
END:STANDARD
END:VTIMEZONE
END:VCALENDAR