BEGIN:VCALENDAR
VERSION:2.0
PRODID:-//wp-events-plugin.com//7.2.3.1//EN
TZID:Europe/Paris
X-WR-TIMEZONE:Europe/Paris
BEGIN:VEVENT
UID:2443@cafeculturelcitoyen.org
DTSTART;TZID=Europe/Paris:20231124T203000
DTEND;TZID=Europe/Paris:20231124T220000
DTSTAMP:20231016T150447Z
URL:https://cafeculturelcitoyen.org/evenements/david-jouteur-en-concert/
SUMMARY:David Jouteur en concert
DESCRIPTION:Ta mamie est dans l'urne\, ton papy est à l'Hépad et ta tata 
 a le cancer...\n\nBref\, c'est la fête!\n\nA l’occasion de la sortie de
  son 2ème album\, David Jouteur\, auteur compositeur interprète\n\nde ch
 ansons drôles et décalées\, prend la route armé de ses petits instrume
 nts et de son humour (noir) dévastateur !\n\ndavidjouteur.fr
ATTACH;FMTTYPE=image/jpeg:https://cafeculturelcitoyen.org/wp-content/uploa
 ds/2023/10/Visuel-David-Jouteur-scaled.jpg
END:VEVENT
BEGIN:VTIMEZONE
TZID:Europe/Paris
X-LIC-LOCATION:Europe/Paris
BEGIN:STANDARD
DTSTART:20231029T020000
TZOFFSETFROM:+0200
TZOFFSETTO:+0100
TZNAME:CET
END:STANDARD
END:VTIMEZONE
END:VCALENDAR