BEGIN:VCALENDAR
VERSION:2.0
PRODID:-//wp-events-plugin.com//7.2.3.1//EN
TZID:Europe/Paris
X-WR-TIMEZONE:Europe/Paris
BEGIN:VEVENT
UID:2614@cafeculturelcitoyen.org
DTSTART;TZID=Europe/Paris:20240104T200000
DTEND;TZID=Europe/Paris:20240104T220000
DTSTAMP:20231205T150124Z
URL:https://cafeculturelcitoyen.org/evenements/david-ganza-en-concert/
SUMMARY:David Ganza en concert !
DESCRIPTION:Entre des mélodies acoustiques intimes et du rock incisif\, l'
 écriture s'emmêle autour de mots bruts.\n\nSa musique est une naissance\
 , son univers percutant.\n\nDavid Ganza livre une musique plaisante et sim
 ple.\n\nDes textes en français\, des accords ouverts sur une voix enraill
 ée.\n\nUne expérience de la scène avec de belles premières parties d'a
 rtistes très connus comme "Les Innocents"\, Daran ou encore Joseph Arthur
 .
ATTACH;FMTTYPE=image/jpeg:https://cafeculturelcitoyen.org/wp-content/uploa
 ds/2023/12/David-Ganza-e1701788473535.jpg
END:VEVENT
BEGIN:VTIMEZONE
TZID:Europe/Paris
X-LIC-LOCATION:Europe/Paris
BEGIN:STANDARD
DTSTART:20231029T020000
TZOFFSETFROM:+0200
TZOFFSETTO:+0100
TZNAME:CET
END:STANDARD
END:VTIMEZONE
END:VCALENDAR