BEGIN:VCALENDAR
VERSION:2.0
PRODID:-//wp-events-plugin.com//7.2.3.1//EN
TZID:Europe/Paris
X-WR-TIMEZONE:Europe/Paris
BEGIN:VEVENT
UID:1736@cafeculturelcitoyen.org
DTSTART;TZID=Europe/Paris:20220528T150000
DTEND;TZID=Europe/Paris:20220528T170000
DTSTAMP:20220510T123303Z
URL:https://cafeculturelcitoyen.org/evenements/danses-de-la-paix-universel
 le/
SUMMARY:Danses de la paix universelle
DESCRIPTION:Joëlle vous accueille pour vous initier aux Danses de la Paix 
 Universelle.\nCréées fin des années 60 par le maitre Samuel Lewis\, ma
 ître soufi et Zen\, dans une démarche d’unifier les spiritualités du 
 monde entier dans la paix et d’en célébrer les richesses distinctes et
  complémentaires\, afin de favoriser la transformation spirituelle en cha
 cun de nous et la possibilité d’élever notre Être tout entier.\nLes d
 anses apportent\njoie\, confiance en soi\, harmonie avec soi et les autres
 \, élévation de notre taux vibratoire\, élévation de conscience\, conn
 exion à son moi profond.\nAucune connaissance en danse ou chant n'est né
 cessaire. Chacun vient comme il est. Tout s'apprend facilement sur place. 
 Les pas et les chants sont simples et courts\, et les instruments sont app
 ortés par l'animatrice.
ATTACH;FMTTYPE=image/jpeg:https://cafeculturelcitoyen.org/wp-content/uploa
 ds/2022/05/armsaround2_001.jpg
END:VEVENT
BEGIN:VTIMEZONE
TZID:Europe/Paris
X-LIC-LOCATION:Europe/Paris
BEGIN:DAYLIGHT
DTSTART:20220327T030000
TZOFFSETFROM:+0100
TZOFFSETTO:+0200
TZNAME:CEST
END:DAYLIGHT
END:VTIMEZONE
END:VCALENDAR