BEGIN:VCALENDAR
VERSION:2.0
PRODID:-//wp-events-plugin.com//7.2.3.1//EN
TZID:Europe/Paris
X-WR-TIMEZONE:Europe/Paris
BEGIN:VEVENT
UID:1703@cafeculturelcitoyen.org
DTSTART;TZID=Europe/Paris:20220409T110000
DTEND;TZID=Europe/Paris:20220409T130000
DTSTAMP:20220328T091143Z
URL:https://cafeculturelcitoyen.org/evenements/cours-danza-vital/
SUMMARY:Atelier Danza Vital
DESCRIPTION:Danza Vital est inspirée par la danse thérapie\, la bioénerg
 étique et le système énergétique. C'est une expérience de mouvement d
 ansé qui a pour intention de rendre notre corps pleinement vivant et capa
 ble de ressentir les plaisirs et les peines\, les joies et les douleurs de
  la vie.\n \nJe vous invite à exprimer votre créativité grâce à la 
 danse\, votre mouvement authentique et votre expression corporelle. Pas b
 esoin de savoir danser\, juste l'envie de vivre une expérience unique de 
 transformation et de connaissance en soi en explorant la danse et le mouve
 ment.\n\n \n\n3 superbes raisons pour pratiquer la Danza Vital avec moi :
 \n\n\n 	S'amuser grâce à la danse et le mouvement\n 	Libérer le mental 
 et réduire le stress\n 	Réveiller son corps et se sentir vivant.e et à 
 la fois relâchéAtelier animé par Heidy Fajardo de 11h à 13h\nInscripti
 on requises ICI\n+33634395322 / heidy.fajardo@gmail.comhello@heidyfajardo.
 comAtelier à prix libre\n\n
ATTACH;FMTTYPE=image/jpeg:https://cafeculturelcitoyen.org/wp-content/uploa
 ds/2022/03/Sans-titre94.png
END:VEVENT
BEGIN:VTIMEZONE
TZID:Europe/Paris
X-LIC-LOCATION:Europe/Paris
BEGIN:DAYLIGHT
DTSTART:20220327T030000
TZOFFSETFROM:+0100
TZOFFSETTO:+0200
TZNAME:CEST
END:DAYLIGHT
END:VTIMEZONE
END:VCALENDAR