BEGIN:VCALENDAR
VERSION:2.0
PRODID:-//wp-events-plugin.com//7.2.3.1//EN
TZID:Europe/Paris
X-WR-TIMEZONE:Europe/Paris
BEGIN:VEVENT
UID:2360@cafeculturelcitoyen.org
DTSTART;TZID=Europe/Paris:20230921T204500
DTEND;TZID=Europe/Paris:20230921T224500
DTSTAMP:20230904T095358Z
URL:https://cafeculturelcitoyen.org/evenements/coupe-du-monde-de-rugby-ven
 ez-soutenir-les-bleus-france-namibie/
SUMMARY:Coupe du monde de Rugby - France-Namibie. Venez soutenir les bleus 
 !
DESCRIPTION:Le rugby est un sport collectif qui développe le sens de la so
 lidarité et de la vie en communauté. Le 3C partage ces valeurs.\nLa coup
 e du monde de rugby démarre le 8 septembre et nous vous proposons\, pour 
 le moment\, deux matches : France/Uruguay le 14 septembre et France/Namibi
 e le 21 septembre.\n\nDébut des matches à 21h : Venez nombreuses-eux !
ATTACH;FMTTYPE=image/jpeg:https://cafeculturelcitoyen.org/wp-content/uploa
 ds/2023/09/Capture-decran-2023-09-03-231558.png
END:VEVENT
BEGIN:VTIMEZONE
TZID:Europe/Paris
X-LIC-LOCATION:Europe/Paris
BEGIN:DAYLIGHT
DTSTART:20230326T030000
TZOFFSETFROM:+0100
TZOFFSETTO:+0200
TZNAME:CEST
END:DAYLIGHT
END:VTIMEZONE
END:VCALENDAR