BEGIN:VCALENDAR
VERSION:2.0
PRODID:-//wp-events-plugin.com//7.2.3.1//EN
TZID:Europe/Paris
X-WR-TIMEZONE:Europe/Paris
BEGIN:VEVENT
UID:2447@cafeculturelcitoyen.org
DTSTART;TZID=Europe/Paris:20231102T190000
DTEND;TZID=Europe/Paris:20231102T203000
DTSTAMP:20231102T140855Z
URL:https://cafeculturelcitoyen.org/evenements/conference-sur-le-coup-deta
 t-au-chili-de-1973-par-gerard-leidet-et-jean-jose-mesguen/
SUMMARY:Conférence sur le Coup d'Etat au Chili de 1973 par Gérard Leidet 
 et Jean José Mesguen
DESCRIPTION:Entre 1970 et 1973\, la « voie chilienne au socialisme » a su
 scité une immense espérance sociale. Le gouvernement d’Allende entrepr
 end d’importantes réformes. C’en est trop pour l’oligarchie et les 
 Etats–Unis…
ATTACH;FMTTYPE=image/jpeg:https://cafeculturelcitoyen.org/wp-content/uploa
 ds/2023/10/Chili.jpg
END:VEVENT
BEGIN:VTIMEZONE
TZID:Europe/Paris
X-LIC-LOCATION:Europe/Paris
BEGIN:STANDARD
DTSTART:20231029T020000
TZOFFSETFROM:+0200
TZOFFSETTO:+0100
TZNAME:CET
END:STANDARD
END:VTIMEZONE
END:VCALENDAR